BEGIN:VCALENDAR
VERSION:2.0
PRODID:-//Lot19 - ECPv6.15.18//NONSGML v1.0//EN
CALSCALE:GREGORIAN
METHOD:PUBLISH
X-WR-CALNAME:Lot19
X-ORIGINAL-URL:https://lot19.au
X-WR-CALDESC:Events for Lot19
REFRESH-INTERVAL;VALUE=DURATION:PT1H
X-Robots-Tag:noindex
X-PUBLISHED-TTL:PT1H
BEGIN:VTIMEZONE
TZID:Australia/Melbourne
BEGIN:STANDARD
TZOFFSETFROM:+1100
TZOFFSETTO:+1000
TZNAME:AEST
DTSTART:20240406T160000
END:STANDARD
BEGIN:DAYLIGHT
TZOFFSETFROM:+1000
TZOFFSETTO:+1100
TZNAME:AEDT
DTSTART:20241005T160000
END:DAYLIGHT
BEGIN:STANDARD
TZOFFSETFROM:+1100
TZOFFSETTO:+1000
TZNAME:AEST
DTSTART:20250405T160000
END:STANDARD
BEGIN:DAYLIGHT
TZOFFSETFROM:+1000
TZOFFSETTO:+1100
TZNAME:AEDT
DTSTART:20251004T160000
END:DAYLIGHT
BEGIN:STANDARD
TZOFFSETFROM:+1100
TZOFFSETTO:+1000
TZNAME:AEST
DTSTART:20260404T160000
END:STANDARD
BEGIN:DAYLIGHT
TZOFFSETFROM:+1000
TZOFFSETTO:+1100
TZNAME:AEDT
DTSTART:20261003T160000
END:DAYLIGHT
END:VTIMEZONE
BEGIN:VEVENT
DTSTART;TZID=Australia/Melbourne:20251128T100000
DTEND;TZID=Australia/Melbourne:20251207T160000
DTSTAMP:20260425T203817
CREATED:20251202T112133Z
LAST-MODIFIED:20260210T003543Z
UID:10000621-1764324000-1765123200@lot19.au
SUMMARY:Alchemy: Through the Lens of Nature’s Resilience
DESCRIPTION:Kristy Lynch is a Bendigo artist who began painting in 2019 as part of her healing journey from addiction and mental health. Her latest collection\, Alchemy: Through the Lens of Nature’s Resilience\, draws on nature and memories of fire\, water\, and sky. Legally blind\, Kristy transforms emotion into vivid imagery\, showing that true vision comes from feeling as much as seeing.November 28 – December 7Friday\, Saturday and Sunday 10 – 4pm
URL:https://lot19.au/event/alchemy-through-the-lens-of-natures-resilience/
CATEGORIES:Art Gallery,Exhibition
ATTACH;FMTTYPE=image/jpeg:https://lot19.au/wp-content/uploads/2025/11/Attachment-9.jpg
END:VEVENT
END:VCALENDAR