BEGIN:VCALENDAR
VERSION:2.0
PRODID:-//Lot19 - ECPv6.15.18//NONSGML v1.0//EN
CALSCALE:GREGORIAN
METHOD:PUBLISH
X-WR-CALNAME:Lot19
X-ORIGINAL-URL:https://lot19.au
X-WR-CALDESC:Events for Lot19
REFRESH-INTERVAL;VALUE=DURATION:PT1H
X-Robots-Tag:noindex
X-PUBLISHED-TTL:PT1H
BEGIN:VTIMEZONE
TZID:Australia/Melbourne
BEGIN:STANDARD
TZOFFSETFROM:+1100
TZOFFSETTO:+1000
TZNAME:AEST
DTSTART:20240406T160000
END:STANDARD
BEGIN:DAYLIGHT
TZOFFSETFROM:+1000
TZOFFSETTO:+1100
TZNAME:AEDT
DTSTART:20241005T160000
END:DAYLIGHT
BEGIN:STANDARD
TZOFFSETFROM:+1100
TZOFFSETTO:+1000
TZNAME:AEST
DTSTART:20250405T160000
END:STANDARD
BEGIN:DAYLIGHT
TZOFFSETFROM:+1000
TZOFFSETTO:+1100
TZNAME:AEDT
DTSTART:20251004T160000
END:DAYLIGHT
BEGIN:STANDARD
TZOFFSETFROM:+1100
TZOFFSETTO:+1000
TZNAME:AEST
DTSTART:20260404T160000
END:STANDARD
BEGIN:DAYLIGHT
TZOFFSETFROM:+1000
TZOFFSETTO:+1100
TZNAME:AEDT
DTSTART:20261003T160000
END:DAYLIGHT
BEGIN:STANDARD
TZOFFSETFROM:+1100
TZOFFSETTO:+1000
TZNAME:AEST
DTSTART:20270403T160000
END:STANDARD
BEGIN:DAYLIGHT
TZOFFSETFROM:+1000
TZOFFSETTO:+1100
TZNAME:AEDT
DTSTART:20271002T160000
END:DAYLIGHT
END:VTIMEZONE
BEGIN:VEVENT
DTSTART;TZID=Australia/Melbourne:20251128T100000
DTEND;TZID=Australia/Melbourne:20251207T160000
DTSTAMP:20260426T021119
CREATED:20251202T112133Z
LAST-MODIFIED:20260210T003543Z
UID:10000621-1764324000-1765123200@lot19.au
SUMMARY:Alchemy: Through the Lens of Nature’s Resilience
DESCRIPTION:Kristy Lynch is a Bendigo artist who began painting in 2019 as part of her healing journey from addiction and mental health. Her latest collection\, Alchemy: Through the Lens of Nature’s Resilience\, draws on nature and memories of fire\, water\, and sky. Legally blind\, Kristy transforms emotion into vivid imagery\, showing that true vision comes from feeling as much as seeing.November 28 – December 7Friday\, Saturday and Sunday 10 – 4pm
URL:https://lot19.au/event/alchemy-through-the-lens-of-natures-resilience/
CATEGORIES:Art Gallery,Exhibition
ATTACH;FMTTYPE=image/jpeg:https://lot19.au/wp-content/uploads/2025/11/Attachment-9.jpg
END:VEVENT
BEGIN:VEVENT
DTSTART;TZID=Australia/Melbourne:20251212T110000
DTEND;TZID=Australia/Melbourne:20251221T170000
DTSTAMP:20260426T021119
CREATED:20251203T052941Z
LAST-MODIFIED:20260117T055429Z
UID:10000617-1765537200-1766336400@lot19.au
SUMMARY:Salon of Smalls
DESCRIPTION:Come one\, come all! \n\n\n\nWe’re very excited to announce a brand-new annual group show in the Lot19 Gallery: Salon of Smalls. \n\n\n\nPicture this—every wall of the gallery brimming with a delightful collection of small works\, each one priced under $300. Perfect for festive gift giving or a small treat for oneself. \n\n\n\nOpening PartyFriday Dec 12\, 5pm – 8pm \n\n\n\nClosing FiestaSunday Dec 21\, 2pm – 5pm
URL:https://lot19.au/event/salon-of-smalls/
CATEGORIES:Art Gallery,Celebration,Community Event,Exhibition
ATTACH;FMTTYPE=image/png:https://lot19.au/wp-content/uploads/2025/12/8.png
END:VEVENT
BEGIN:VEVENT
DTSTART;TZID=Australia/Melbourne:20251213T080000
DTEND;TZID=Australia/Melbourne:20251214T000000
DTSTAMP:20260426T021119
CREATED:20251202T053810Z
LAST-MODIFIED:20251202T053924Z
UID:10000618-1765612800-1765670400@lot19.au
SUMMARY:Club Unity
DESCRIPTION:𝐒𝐀𝐓𝐔𝐑𝐃𝐀𝐘 𝐃𝐄𝐂𝐄𝐌𝐁𝐄𝐑 𝟏𝟑𝐓𝐇5pm – 12amClub Unity returns to Lot 19 (Castlemaine/ Djaara Country) with a 2x stage festival for our last event of 2025 ✨ \n\n\n\n𝐒𝐔𝐏𝐄𝐑 𝐃𝐘𝐍𝐀𝐌𝐈𝐂 𝐒𝐓𝐀𝐆𝐄: LUQMAN B2B KENJIMS. ONUR KURT FT. TARABEAT (LIVE)DJ EMIOTORONGO (BRI)VEE \n\n\n\n𝐌𝐀𝐇𝐈𝐊𝐀𝐈 𝐒𝐎𝐔𝐍𝐃 𝐒𝐓𝐀𝐆𝐄:LIM_ONETRIBEZËODJ MATABDJ CLAMRUCHI \n\n\n\n+++ 𝐕𝐈𝐒𝐔𝐀𝐋𝐒 (LIVE + INSTALLATION)\, 𝐒𝐓𝐀𝐋𝐋𝐒\, 𝐅𝐎𝐎𝐃 \n\n\n\nGET YOUR TICKETS NOWfor this all star event in an open air location & STAY POSTED AS THERE WILL ALSO BE AN OFFICIAL AFTER PARTY UNTIL SUNRISE 15MIN FROM LOT 19! \n\n\n\nProceeds will go to fundraising for a soundsystem!
URL:https://lot19.au/event/club-unity/
CATEGORIES:Celebration,Community Event,Fundraiser,Music
ATTACH;FMTTYPE=image/jpeg:https://lot19.au/wp-content/uploads/2025/12/4cca5e45-21c8-4043-8d0f-3baafc111fed.jpg
END:VEVENT
BEGIN:VEVENT
DTSTART;TZID=Australia/Melbourne:20260207T100000
DTEND;TZID=Australia/Melbourne:20260222T160000
DTSTAMP:20260426T021119
CREATED:20260117T054520Z
LAST-MODIFIED:20260202T212246Z
UID:10000623-1770458400-1771776000@lot19.au
SUMMARY:Portal
DESCRIPTION:By Fionna Madigan\, Lisa McPherson\, Jenny Divers\n\n\n\nYou are warmly invited to enter a portal of remembrance and presence. 7th-22nd February\, Thursday-Sunday\n\n\n\n\n\n\n\n\n\n\n\n\n\nPainter Fionna Madigan\, and ceramicists Lisa McPherson and Jenny Divers\, invite you through a portal into a soulful and celebratory realm in which to explore space\, psyche\, touch and medicine. \n\n\n\nFionna is an award-winning exhibiting artist whose work straddles a fertile zone between realism and abstraction. Her immersive works are lush and optically playful\, inspired by the forms and flora of the Victorian Goldfields. \n\n\n\nLisa McPherson is a ceramist and a practitioner of East Asian Medicine. Her work involves moving between bodies; human bodies and bodies of clay. These sensitive\, hand-built forms explore notions of touch\, healing and memory. \n\n\n\nJenny Divers’ ceramic practice is inspired by natural and constructed landscapes through which she has lived\, worked and travelled. These contemplative forms investigate place and invite tactile engagement. \n\n\n\nOpening Sunday 8 February\, 4pm to 6pm \n\n\n\nOpening Hours Sat 7 February\, 10-4pmSunday Feb 8 – 10am – 6pm (Opening Reception 4pm – 6pm)Thursday Feb 12 – 10am – 4pmFriday Feb 13 – 10am – 4pmSaturday Feb 14 – 10am – 4pmSunday Feb 15 – 10am – 4pmThursday Feb 19 – 10am – 4pmFriday Feb 20 – 10am – 4pmSaturday Feb 21 – 10am – 4pmSunday Feb 22 – 10am – 4pm
URL:https://lot19.au/event/portal/
CATEGORIES:Art Gallery,Celebration,Community Event,Current Show,Exhibition
ATTACH;FMTTYPE=image/jpeg:https://lot19.au/wp-content/uploads/2026/01/FM.jpg
END:VEVENT
BEGIN:VEVENT
DTSTART;TZID=Australia/Melbourne:20260314T130000
DTEND;TZID=Australia/Melbourne:20260314T223000
DTSTAMP:20260426T021119
CREATED:20260202T213540Z
LAST-MODIFIED:20260202T213730Z
UID:10000624-1773493200-1773527400@lot19.au
SUMMARY:Castlemaine Idyll
DESCRIPTION:Saturday 14 March 2026\n\n\n\n\n\n\n\n\n\n\n\n\n\nCastlemaine’s Premier talent contest\, lot19 fundraiser and a ridiculous amount of joy and community fund. Contestants\, hot band\, celebrity judges\, volunteers\, dancing\, singing\, broadcasting and more…​ \n\n\n\nThis year’s theme: movie soundtracks!\n\n\n\nThis is one of those Castlemaine things that works because we do it together  \n\n\n\nFamiliar movie songs. Local voices. A live band. A crowd that already knows how this works. Castlemaine IDYLL is back at Lot19 \n\n\n\nIDYLL is all about familiar songs\, brave humans having a go\, and a crowd that cheers loudly. \n\n\n\nIdyll runs 1pm to 10.30pm
URL:https://lot19.au/event/castlemaine-idyll-2/
CATEGORIES:Art Gallery,Celebration,Community Event,Current Show,Exhibition
ATTACH;FMTTYPE=image/jpeg:https://lot19.au/wp-content/uploads/2026/01/idyll-home-page.jpg
END:VEVENT
BEGIN:VEVENT
DTSTART;TZID=Australia/Melbourne:20260320T110000
DTEND;TZID=Australia/Melbourne:20260328T160000
DTSTAMP:20260426T021119
CREATED:20260324T231352Z
LAST-MODIFIED:20260324T231645Z
UID:10000625-1774004400-1774713600@lot19.au
SUMMARY:It's  a Kind of Wonder
DESCRIPTION:In partnership with Castlemaine Fringe\n\n\n\nWearable art exhibition\n\n\n\n\n\n\n\n\n\n\n\n\n\nCurated by Jody Galvin\, Azzy Jay\, Kya Moore\, Ellen Doyle\, Madeleine Somers\, Martin John Lee\, Andi Herman\, Melissa Clark\, Michelle Newton and Kaz McMullan \n\n\n\nThe Castlemaine Fringe Festival brings its signature creativity to the State Festival with It’s a Kind of Wonder – a wearable art exhibition that transforms fashion into fantasy. \n\n\n\nThe exhibition showcases handmade works that are bold\, playful and unapologetically individual. Each piece redefines what it means to wear art – from sculptural headpieces to textile experiments that blure the line between costume and concept. The result is an explosion of colour\, craft and character\, true to Castlemaine’s reputation as a creative melting pot. It’s a Kind of Wonder is an invitation to revel in the weird and wonderful – to see the human body not just as a canvas\, but as a living artwork. \n\n\n\nOpening Hours Friday 20 March – 11am to 4pmSaturday 21 March – 11am to 4pmSunday 22 March – 11am to 4pmFriday 27 March – 11am to 4pmSaturday 28 March – 11am to 4pm
URL:https://lot19.au/event/its-a-kind-of-wonder/
CATEGORIES:Art Gallery,Celebration,Community Event,Current Show,Exhibition
ATTACH;FMTTYPE=image/jpeg:https://lot19.au/wp-content/uploads/2026/03/iakow-square.jpg
END:VEVENT
BEGIN:VEVENT
DTSTART;TZID=Australia/Melbourne:20260418T110000
DTEND;TZID=Australia/Melbourne:20260502T160000
DTSTAMP:20260426T021119
CREATED:20260325T220555Z
LAST-MODIFIED:20260413T030533Z
UID:10000626-1776510000-1777737600@lot19.au
SUMMARY:Meanwhile\, in Castlemaine
DESCRIPTION:By Julie Lovett\n\n\n\n\n\n\n\n\n\n\n\n\n\nOpening:Saturday 18 April\, 2pm-5pm\n\n\n\nThe work presented at Lot 19 emerges from the unstable space of the artist residency — a site that promises reflection and transformation but often delivers something far less resolved. Working across painting and film\, I treat the act of making as both subject and material\, allowing the work to turn back on itself. \n\n\n\nI place myself within the work as a semi-fictional\, autobiographical character — performing the role of the artist somewhere between sincerity and parody. The work leans into self- portraiture\, self-consciousness and the pressure to produce meaning in unfamiliar surroundings. \n\n\n\nThe Australian landscape operates as a constant backdrop — echoing my earlier engagement with the Irish landscape — but here it becomes a stage set as much as a site\, exposing the constructed nature of the work. \n\n\n\nUsing banal narratives\, humour and self-interrogation\, the exhibition resists resolution\, lingering instead in something unresolved\, self-aware and slightly uncomfortable. \n\n\n\n\n\n\n\nJulie Lovett is an artist from County Kerry\, Ireland\, working across painting\, performance and durational video. Her practice draws on the landscape\, labour and lived experience of her rural upbringing. Working from this context has required her to generate her own opportunities\, shaping a strong sense of independence and authorship. \n\n\n\nHer work explores the tension between artistic professionalism\, vulnerability and belonging. She holds a BA from LSAD and an MFA from the University of Ulster\, and has exhibited nationally and internationally. \n\n\n\nExhibition dates:Friday-Sunday\, 18 April to 2 May
URL:https://lot19.au/event/castlemaine-castlemaine/
CATEGORIES:Art Gallery,Celebration,Community Event,Current Show,Exhibition
ATTACH;FMTTYPE=image/jpeg:https://lot19.au/wp-content/uploads/2026/03/Square-head-self-portrait.2025.jpg
END:VEVENT
END:VCALENDAR