BEGIN:VCALENDAR
VERSION:2.0
PRODID:-//Lot19 - ECPv6.15.18//NONSGML v1.0//EN
CALSCALE:GREGORIAN
METHOD:PUBLISH
X-ORIGINAL-URL:https://lot19.au
X-WR-CALDESC:Events for Lot19
REFRESH-INTERVAL;VALUE=DURATION:PT1H
X-Robots-Tag:noindex
X-PUBLISHED-TTL:PT1H
BEGIN:VTIMEZONE
TZID:Australia/Melbourne
BEGIN:STANDARD
TZOFFSETFROM:+1100
TZOFFSETTO:+1000
TZNAME:AEST
DTSTART:20250405T160000
END:STANDARD
BEGIN:DAYLIGHT
TZOFFSETFROM:+1000
TZOFFSETTO:+1100
TZNAME:AEDT
DTSTART:20251004T160000
END:DAYLIGHT
BEGIN:STANDARD
TZOFFSETFROM:+1100
TZOFFSETTO:+1000
TZNAME:AEST
DTSTART:20260404T160000
END:STANDARD
BEGIN:DAYLIGHT
TZOFFSETFROM:+1000
TZOFFSETTO:+1100
TZNAME:AEDT
DTSTART:20261003T160000
END:DAYLIGHT
BEGIN:STANDARD
TZOFFSETFROM:+1100
TZOFFSETTO:+1000
TZNAME:AEST
DTSTART:20270403T160000
END:STANDARD
BEGIN:DAYLIGHT
TZOFFSETFROM:+1000
TZOFFSETTO:+1100
TZNAME:AEDT
DTSTART:20271002T160000
END:DAYLIGHT
END:VTIMEZONE
BEGIN:VEVENT
DTSTART;TZID=Australia/Melbourne:20260207T100000
DTEND;TZID=Australia/Melbourne:20260222T160000
DTSTAMP:20260424T013002
CREATED:20260117T054520Z
LAST-MODIFIED:20260202T212246Z
UID:10000623-1770458400-1771776000@lot19.au
SUMMARY:Portal
DESCRIPTION:By Fionna Madigan\, Lisa McPherson\, Jenny Divers\n\n\n\nYou are warmly invited to enter a portal of remembrance and presence. 7th-22nd February\, Thursday-Sunday\n\n\n\n\n\n\n\n\n\n\n\n\n\nPainter Fionna Madigan\, and ceramicists Lisa McPherson and Jenny Divers\, invite you through a portal into a soulful and celebratory realm in which to explore space\, psyche\, touch and medicine. \n\n\n\nFionna is an award-winning exhibiting artist whose work straddles a fertile zone between realism and abstraction. Her immersive works are lush and optically playful\, inspired by the forms and flora of the Victorian Goldfields. \n\n\n\nLisa McPherson is a ceramist and a practitioner of East Asian Medicine. Her work involves moving between bodies; human bodies and bodies of clay. These sensitive\, hand-built forms explore notions of touch\, healing and memory. \n\n\n\nJenny Divers’ ceramic practice is inspired by natural and constructed landscapes through which she has lived\, worked and travelled. These contemplative forms investigate place and invite tactile engagement. \n\n\n\nOpening Sunday 8 February\, 4pm to 6pm \n\n\n\nOpening Hours Sat 7 February\, 10-4pmSunday Feb 8 – 10am – 6pm (Opening Reception 4pm – 6pm)Thursday Feb 12 – 10am – 4pmFriday Feb 13 – 10am – 4pmSaturday Feb 14 – 10am – 4pmSunday Feb 15 – 10am – 4pmThursday Feb 19 – 10am – 4pmFriday Feb 20 – 10am – 4pmSaturday Feb 21 – 10am – 4pmSunday Feb 22 – 10am – 4pm
URL:https://lot19.au/event/portal/
CATEGORIES:Art Gallery,Celebration,Community Event,Current Show,Exhibition
ATTACH;FMTTYPE=image/jpeg:https://lot19.au/wp-content/uploads/2026/01/FM.jpg
END:VEVENT
END:VCALENDAR